BEGIN:VCALENDAR
VERSION:2.0
PRODID:-//Facultad de Ciencias Exactas y Tecnología - ECPv5.14.2.1//NONSGML v1.0//EN
CALSCALE:GREGORIAN
METHOD:PUBLISH
X-WR-CALNAME:Facultad de Ciencias Exactas y Tecnología
X-ORIGINAL-URL:https://www.facet.unt.edu.ar
X-WR-CALDESC:Eventos para Facultad de Ciencias Exactas y Tecnología
REFRESH-INTERVAL;VALUE=DURATION:PT1H
X-Robots-Tag:noindex
X-PUBLISHED-TTL:PT1H
BEGIN:VTIMEZONE
TZID:America/Sao_Paulo
BEGIN:STANDARD
TZOFFSETFROM:-0300
TZOFFSETTO:-0300
TZNAME:-03
DTSTART:20200101T000000
END:STANDARD
END:VTIMEZONE
BEGIN:VEVENT
DTSTART;TZID=America/Sao_Paulo:20250523T090000
DTEND;TZID=America/Sao_Paulo:20250523T130000
DTSTAMP:20260423T203726
CREATED:20250507T143532Z
LAST-MODIFIED:20250507T143537Z
UID:11781-1747990800-1748005200@www.facet.unt.edu.ar
SUMMARY:1º Jornadas de Prevención en problemáticas de Salud Mental
DESCRIPTION:
URL:https://www.facet.unt.edu.ar/event/1o-jornadas-de-prevencion-en-problematicas-de-salud-mental/
END:VEVENT
BEGIN:VEVENT
DTSTART;TZID=America/Sao_Paulo:20250509T080000
DTEND;TZID=America/Sao_Paulo:20250509T170000
DTSTAMP:20260423T203726
CREATED:20250211T124705Z
LAST-MODIFIED:20250211T124709Z
UID:11677-1746777600-1746810000@www.facet.unt.edu.ar
SUMMARY:CODINOA
DESCRIPTION:
URL:https://www.facet.unt.edu.ar/event/codinoa/
END:VEVENT
BEGIN:VEVENT
DTSTART;TZID=America/Sao_Paulo:20250430T080000
DTEND;TZID=America/Sao_Paulo:20250430T170000
DTSTAMP:20260423T203726
CREATED:20250211T124627Z
LAST-MODIFIED:20250211T124631Z
UID:11675-1746000000-1746032400@www.facet.unt.edu.ar
SUMMARY:1º Colación de grado
DESCRIPTION:
URL:https://www.facet.unt.edu.ar/event/1o-colacion-de-grado/
END:VEVENT
BEGIN:VEVENT
DTSTART;TZID=America/Sao_Paulo:20250311T080000
DTEND;TZID=America/Sao_Paulo:20250311T170000
DTSTAMP:20260423T203726
CREATED:20250213T125353Z
LAST-MODIFIED:20250213T125357Z
UID:11698-1741680000-1741712400@www.facet.unt.edu.ar
SUMMARY:Conectar FACET
DESCRIPTION:
URL:https://www.facet.unt.edu.ar/event/conectar-facet-2/
END:VEVENT
BEGIN:VEVENT
DTSTART;TZID=America/Sao_Paulo:20250308T080000
DTEND;TZID=America/Sao_Paulo:20250308T233000
DTSTAMP:20260423T203726
CREATED:20250211T124449Z
LAST-MODIFIED:20250211T124543Z
UID:11673-1741420800-1741476600@www.facet.unt.edu.ar
SUMMARY:Día de la Mujer
DESCRIPTION:
URL:https://www.facet.unt.edu.ar/event/dia-de-la-mujer/
END:VEVENT
BEGIN:VEVENT
DTSTART;TZID=America/Sao_Paulo:20241206T090000
DTEND;TZID=America/Sao_Paulo:20241206T120000
DTSTAMP:20260423T203726
CREATED:20241204T145424Z
LAST-MODIFIED:20241204T145430Z
UID:11646-1733475600-1733486400@www.facet.unt.edu.ar
SUMMARY:Regata de Medición de Caudales en el Río Lules
DESCRIPTION:
URL:https://www.facet.unt.edu.ar/event/regata-de-medicion-de-caudales-en-el-rio-lules/
END:VEVENT
BEGIN:VEVENT
DTSTART;TZID=America/Sao_Paulo:20241203T190000
DTEND;TZID=America/Sao_Paulo:20241203T210000
DTSTAMP:20260423T203726
CREATED:20240427T005741Z
LAST-MODIFIED:20241112T104559Z
UID:11301-1733252400-1733259600@www.facet.unt.edu.ar
SUMMARY:3er Acto de Colación de Grado FACET en Teatro Alberdi
DESCRIPTION:
URL:https://www.facet.unt.edu.ar/event/3er-acto-de-colacion-de-grado-facet/
END:VEVENT
BEGIN:VEVENT
DTSTART;TZID=America/Sao_Paulo:20241129T090000
DTEND;TZID=America/Sao_Paulo:20241129T180000
DTSTAMP:20260423T203726
CREATED:20241112T104753Z
LAST-MODIFIED:20241112T104753Z
UID:11611-1732870800-1732903200@www.facet.unt.edu.ar
SUMMARY:Jornada Provincial de Ciberseguridad 2024 en la FACET
DESCRIPTION:
URL:https://www.facet.unt.edu.ar/event/jornada-provincial-de-ciberseguridad-2024-en-la-facet/
END:VEVENT
BEGIN:VEVENT
DTSTART;TZID=America/Sao_Paulo:20241108T103000
DTEND;TZID=America/Sao_Paulo:20241108T233000
DTSTAMP:20260423T203726
CREATED:20241023T113323Z
LAST-MODIFIED:20241023T113323Z
UID:11551-1731061800-1731108600@www.facet.unt.edu.ar
SUMMARY:Orquesta Sinfónica de la UNT en la FACET
DESCRIPTION:
URL:https://www.facet.unt.edu.ar/event/orquesta-sinfonica-de-la-unt-en-la-facet/
END:VEVENT
BEGIN:VEVENT
DTSTART;TZID=America/Sao_Paulo:20241107T090000
DTEND;TZID=America/Sao_Paulo:20241107T230000
DTSTAMP:20260423T203726
CREATED:20241023T124720Z
LAST-MODIFIED:20241023T124738Z
UID:11557-1730970000-1731020400@www.facet.unt.edu.ar
SUMMARY:Como armar un CV atractivo SLB
DESCRIPTION:
URL:https://www.facet.unt.edu.ar/event/como-armar-un-cv-atractivo-slb/
END:VEVENT
BEGIN:VEVENT
DTSTART;TZID=America/Sao_Paulo:20241106T090000
DTEND;TZID=America/Sao_Paulo:20241106T103000
DTSTAMP:20260423T203726
CREATED:20241023T124605Z
LAST-MODIFIED:20241023T124610Z
UID:11555-1730883600-1730889000@www.facet.unt.edu.ar
SUMMARY:Programa de Nuevos Talentos SLB
DESCRIPTION:
URL:https://www.facet.unt.edu.ar/event/programa-de-nuevos-talentos-slb/
LOCATION:Facet – UNT\, Independencia 1800\, San Miguel\, Tucumán\, 4000\, Argentina
END:VEVENT
BEGIN:VEVENT
DTSTART;TZID=America/Sao_Paulo:20241031T150000
DTEND;TZID=America/Sao_Paulo:20241031T163000
DTSTAMP:20260423T203726
CREATED:20241023T113910Z
LAST-MODIFIED:20241023T113910Z
UID:11553-1730386800-1730392200@www.facet.unt.edu.ar
SUMMARY:Jornada de Concientización para Comercios Seguros
DESCRIPTION:
URL:https://www.facet.unt.edu.ar/event/jornada-de-concientizacion-para-comercios-seguros/
LOCATION:Facet – UNT\, Independencia 1800\, San Miguel\, Tucumán\, 4000\, Argentina
END:VEVENT
BEGIN:VEVENT
DTSTART;TZID=America/Sao_Paulo:20241004T080000
DTEND;TZID=America/Sao_Paulo:20241005T170000
DTSTAMP:20260423T203726
CREATED:20240427T005843Z
LAST-MODIFIED:20240427T005843Z
UID:11303-1728028800-1728147600@www.facet.unt.edu.ar
SUMMARY:Rally Latinoamericano de Innovación
DESCRIPTION:
URL:https://www.facet.unt.edu.ar/event/rally-latinoamericano-de-innovacion/
END:VEVENT
BEGIN:VEVENT
DTSTART;TZID=America/Sao_Paulo:20240830T090000
DTEND;TZID=America/Sao_Paulo:20240830T110000
DTSTAMP:20260423T203726
CREATED:20240427T005608Z
LAST-MODIFIED:20240427T005636Z
UID:11298-1725008400-1725015600@www.facet.unt.edu.ar
SUMMARY:2do Acto de Colación de Grado FACET
DESCRIPTION:
URL:https://www.facet.unt.edu.ar/event/colacion-de-grado-facet-2/
END:VEVENT
BEGIN:VEVENT
DTSTART;TZID=America/Sao_Paulo:20240612T080000
DTEND;TZID=America/Sao_Paulo:20240614T130000
DTSTAMP:20260423T203726
CREATED:20240327T204437Z
LAST-MODIFIED:20240327T204437Z
UID:11227-1718179200-1718370000@www.facet.unt.edu.ar
SUMMARY:Muestra "Exactas para Todos"
DESCRIPTION:
URL:https://www.facet.unt.edu.ar/event/muestra-exactas-para-todos/
END:VEVENT
BEGIN:VEVENT
DTSTART;TZID=America/Sao_Paulo:20240604T080000
DTEND;TZID=America/Sao_Paulo:20240605T170000
DTSTAMP:20260423T203726
CREATED:20240327T204330Z
LAST-MODIFIED:20240327T204838Z
UID:11225-1717488000-1717606800@www.facet.unt.edu.ar
SUMMARY:Encuentro Científico de Investigadores de la FACET - ECIFACET
DESCRIPTION:
URL:https://www.facet.unt.edu.ar/event/ecifacet/
END:VEVENT
BEGIN:VEVENT
DTSTART;TZID=America/Sao_Paulo:20240603T083000
DTEND;TZID=America/Sao_Paulo:20240603T133000
DTSTAMP:20260423T203726
CREATED:20240517T211628Z
LAST-MODIFIED:20240517T211628Z
UID:11342-1717403400-1717421400@www.facet.unt.edu.ar
SUMMARY:Jornada 2024 de Seminarios de estudiantes del Doctorado en Ciencias Exactas e Ingeniería de la FACET
DESCRIPTION:
URL:https://www.facet.unt.edu.ar/event/jornada-2024-de-seminarios-de-estudiantes-del-doctorado-en-ciencias-exactas-e-ingenieria-de-la-facet/
END:VEVENT
BEGIN:VEVENT
DTSTART;TZID=America/Sao_Paulo:20240419T090000
DTEND;TZID=America/Sao_Paulo:20240419T110000
DTSTAMP:20260423T203726
CREATED:20240327T203108Z
LAST-MODIFIED:20240327T203108Z
UID:11221-1713517200-1713524400@www.facet.unt.edu.ar
SUMMARY:Colación de Grado FACET
DESCRIPTION:
URL:https://www.facet.unt.edu.ar/event/colacion-de-grado-facet/
LOCATION:Facet – UNT\, Independencia 1800\, San Miguel\, Tucumán\, 4000\, Argentina
END:VEVENT
BEGIN:VEVENT
DTSTART;TZID=America/Sao_Paulo:20240412T100000
DTEND;TZID=America/Sao_Paulo:20240412T130000
DTSTAMP:20260423T203726
CREATED:20240327T204209Z
LAST-MODIFIED:20240410T004803Z
UID:11223-1712916000-1712926800@www.facet.unt.edu.ar
SUMMARY:CONECTAR FACET
DESCRIPTION:Aquí se desarrollan diversas actividades orientadas a brindar la información necesaria sobre la vida universitaria a los estudiantes ingresantes.
URL:https://www.facet.unt.edu.ar/event/conectar-facet/
LOCATION:Facet – UNT\, Independencia 1800\, San Miguel\, Tucumán\, 4000\, Argentina
END:VEVENT
BEGIN:VEVENT
DTSTART;TZID=America/Sao_Paulo:20200924T080000
DTEND;TZID=America/Sao_Paulo:20200927T170000
DTSTAMP:20260423T203726
CREATED:20200922T124626Z
LAST-MODIFIED:20200922T124626Z
UID:7861-1600934400-1601226000@www.facet.unt.edu.ar
SUMMARY:Evento 2
DESCRIPTION:
URL:https://www.facet.unt.edu.ar/event/evento-2/
END:VEVENT
BEGIN:VEVENT
DTSTART;TZID=America/Sao_Paulo:20200922T080000
DTEND;TZID=America/Sao_Paulo:20200922T170000
DTSTAMP:20260423T203726
CREATED:20200922T122626Z
LAST-MODIFIED:20200922T123349Z
UID:7856-1600761600-1600794000@www.facet.unt.edu.ar
SUMMARY:Evento de prueba
DESCRIPTION:Este es un evento de prueba
URL:https://www.facet.unt.edu.ar/event/evento-de-prueba/
LOCATION:Facet – UNT\, Independencia 1800\, San Miguel\, Tucumán\, 4000\, Argentina
END:VEVENT
END:VCALENDAR