BEGIN:VCALENDAR
VERSION:2.0
PRODID:-//Secretaría de Bienestar Estudiantil - ECPv5.14.2.1//NONSGML v1.0//EN
CALSCALE:GREGORIAN
METHOD:PUBLISH
X-WR-CALNAME:Secretaría de Bienestar Estudiantil
X-ORIGINAL-URL:https://www.facet.unt.edu.ar/sbe
X-WR-CALDESC:Eventos para Secretaría de Bienestar Estudiantil
REFRESH-INTERVAL;VALUE=DURATION:PT1H
X-Robots-Tag:noindex
X-PUBLISHED-TTL:PT1H
BEGIN:VTIMEZONE
TZID:America/Sao_Paulo
BEGIN:STANDARD
TZOFFSETFROM:-0300
TZOFFSETTO:-0300
TZNAME:-03
DTSTART:20240101T000000
END:STANDARD
END:VTIMEZONE
BEGIN:VEVENT
DTSTART;TZID=America/Sao_Paulo:20260416T100000
DTEND;TZID=America/Sao_Paulo:20260416T123000
DTSTAMP:20260422T065550
CREATED:20260311T162700Z
LAST-MODIFIED:20260409T160706Z
UID:5020-1776333600-1776342600@www.facet.unt.edu.ar
SUMMARY:Conectar FACET
DESCRIPTION:
URL:https://www.facet.unt.edu.ar/sbe/event/conectar-facet/
END:VEVENT
BEGIN:VEVENT
DTSTART;TZID=America/Sao_Paulo:20251209T090000
DTEND;TZID=America/Sao_Paulo:20251209T110000
DTSTAMP:20260422T065550
CREATED:20250213T114146Z
LAST-MODIFIED:20250213T114146Z
UID:4001-1765270800-1765278000@www.facet.unt.edu.ar
SUMMARY:Tercer Acto de Colación FACET 2025
DESCRIPTION:
URL:https://www.facet.unt.edu.ar/sbe/event/tercer-acto-de-colacion-facet-2025/
END:VEVENT
BEGIN:VEVENT
DTSTART;TZID=America/Sao_Paulo:20251010T080000
DTEND;TZID=America/Sao_Paulo:20251011T170000
DTSTAMP:20260422T065550
CREATED:20250722T111239Z
LAST-MODIFIED:20250722T111239Z
UID:4662-1760083200-1760202000@www.facet.unt.edu.ar
SUMMARY:Rally Latinoamericano de Innovación
DESCRIPTION:
URL:https://www.facet.unt.edu.ar/sbe/event/rally-latinoamericano-de-innovacion/
END:VEVENT
BEGIN:VEVENT
DTSTART;TZID=America/Sao_Paulo:20250905T090000
DTEND;TZID=America/Sao_Paulo:20250905T110000
DTSTAMP:20260422T065550
CREATED:20250213T113634Z
LAST-MODIFIED:20250213T113634Z
UID:3999-1757062800-1757070000@www.facet.unt.edu.ar
SUMMARY:Segundo Acto de Colación de Grado FACET 2025
DESCRIPTION:
URL:https://www.facet.unt.edu.ar/sbe/event/segundo-acto-de-colacion-de-grado-facet-2025/
END:VEVENT
BEGIN:VEVENT
DTSTART;TZID=America/Sao_Paulo:20250821T150000
DTEND;TZID=America/Sao_Paulo:20251113T180000
DTSTAMP:20260422T065550
CREATED:20250723T115647Z
LAST-MODIFIED:20250723T115708Z
UID:4668-1755788400-1763056800@www.facet.unt.edu.ar
SUMMARY:Curso Aire Acondicionado – Mantenimiento y Reparación de Equipos Split hasta 6000 KCAL/H
DESCRIPTION:
URL:https://www.facet.unt.edu.ar/sbe/event/curso-aire-acondicionado-mantenimiento-y-reparacion-de-equipos-split-hasta-6000-kcal-h/
END:VEVENT
BEGIN:VEVENT
DTSTART;TZID=America/Sao_Paulo:20250611T080000
DTEND;TZID=America/Sao_Paulo:20250613T130000
DTSTAMP:20260422T065550
CREATED:20250421T122024Z
LAST-MODIFIED:20250421T122024Z
UID:4333-1749628800-1749819600@www.facet.unt.edu.ar
SUMMARY:Muestra "Exactas para Todos 2025"
DESCRIPTION:
URL:https://www.facet.unt.edu.ar/sbe/event/muestra-exactas-para-todos-2025/
END:VEVENT
BEGIN:VEVENT
DTSTART;TZID=America/Sao_Paulo:20250430T090000
DTEND;TZID=America/Sao_Paulo:20250430T110000
DTSTAMP:20260422T065550
CREATED:20250213T112937Z
LAST-MODIFIED:20250213T112937Z
UID:3997-1746003600-1746010800@www.facet.unt.edu.ar
SUMMARY:Primer Acto de Colación de Grado FACET 2025
DESCRIPTION:
URL:https://www.facet.unt.edu.ar/sbe/event/primer-acto-de-colacion-de-grado-facet-2025/
END:VEVENT
BEGIN:VEVENT
DTSTART;TZID=America/Sao_Paulo:20250204T080000
DTEND;TZID=America/Sao_Paulo:20250216T235900
DTSTAMP:20260422T065550
CREATED:20250207T135903Z
LAST-MODIFIED:20250207T135903Z
UID:3995-1738656000-1739750340@www.facet.unt.edu.ar
SUMMARY:Búsqueda de Pasantes de Industrial – S.A. VERACRUZ
DESCRIPTION:Cierre de Convocatoria: 16/02 \nMás información en: https://www.facet.unt.edu.ar/sbe/2025/02/04/busqueda-de-pasantes-de-industrial-s-a-veracruz-cierre-de-convocatoria-16-02/
URL:https://www.facet.unt.edu.ar/sbe/event/busqueda-de-pasantes-de-industrial-s-a-veracruz/
END:VEVENT
BEGIN:VEVENT
DTSTART;TZID=America/Sao_Paulo:20241203T190000
DTEND;TZID=America/Sao_Paulo:20241203T200000
DTSTAMP:20260422T065550
CREATED:20241009T155208Z
LAST-MODIFIED:20241108T145821Z
UID:3721-1733252400-1733256000@www.facet.unt.edu.ar
SUMMARY:Tercer Acto de Colación de Grado FACET
DESCRIPTION:
URL:https://www.facet.unt.edu.ar/sbe/event/tercer-acto-de-colacion-de-grado-facet/
LOCATION:Teatro Alberdi
END:VEVENT
BEGIN:VEVENT
DTSTART;TZID=America/Sao_Paulo:20241108T113000
DTEND;TZID=America/Sao_Paulo:20241108T133000
DTSTAMP:20260422T065550
CREATED:20241108T013800Z
LAST-MODIFIED:20241108T013800Z
UID:3799-1731065400-1731072600@www.facet.unt.edu.ar
SUMMARY:Defensa del Proyecto de Graduación de la alumna Mariana Gómez Morales – Ing. Biomédica
DESCRIPTION:
URL:https://www.facet.unt.edu.ar/sbe/event/defensa-del-proyecto-de-graduacion-de-la-alumna-mariana-gomez-morales-ing-biomedica/
END:VEVENT
BEGIN:VEVENT
DTSTART;TZID=America/Sao_Paulo:20241108T103000
DTEND;TZID=America/Sao_Paulo:20241108T120000
DTSTAMP:20260422T065550
CREATED:20241108T013629Z
LAST-MODIFIED:20241108T013629Z
UID:3792-1731061800-1731067200@www.facet.unt.edu.ar
SUMMARY:La Orquesta Sinfónica de la UNT se presentará en la FACET
DESCRIPTION:
URL:https://www.facet.unt.edu.ar/sbe/event/la-orquesta-sinfonica-de-la-unt-se-presentara-en-la-facet/
END:VEVENT
BEGIN:VEVENT
DTSTART;TZID=America/Sao_Paulo:20241106T090000
DTEND;TZID=America/Sao_Paulo:20241107T110000
DTSTAMP:20260422T065550
CREATED:20241023T112535Z
LAST-MODIFIED:20241023T120954Z
UID:3742-1730883600-1730977200@www.facet.unt.edu.ar
SUMMARY:Programa de Jóvenes Profesionales y Charla SLB
DESCRIPTION:
URL:https://www.facet.unt.edu.ar/sbe/event/programa-de-jovenes-profesionales-y-charla-slb/
END:VEVENT
BEGIN:VEVENT
DTSTART;TZID=America/Sao_Paulo:20241024T235900
DTEND;TZID=America/Sao_Paulo:20241024T235900
DTSTAMP:20260422T065550
CREATED:20241009T154619Z
LAST-MODIFIED:20241009T161357Z
UID:3718-1729814340-1729814340@www.facet.unt.edu.ar
SUMMARY:Búsqueda de Pasantes de Mecánica\, Eléctrica\, Electrónica o Industrial – S.A. VERACRUZ
DESCRIPTION:
URL:https://www.facet.unt.edu.ar/sbe/event/busqueda-de-pasantes-de-mecanica-electrica-electronica-o-industrial-s-a-veracruz/
END:VEVENT
BEGIN:VEVENT
DTSTART;TZID=America/Sao_Paulo:20241024T193000
DTEND;TZID=America/Sao_Paulo:20241024T203000
DTSTAMP:20260422T065550
CREATED:20241009T153023Z
LAST-MODIFIED:20241009T154123Z
UID:3710-1729798200-1729801800@www.facet.unt.edu.ar
SUMMARY:Webinar "3\,2\,1...¡ACTIVÁ TU PERFIL PROFESIONAL!"
DESCRIPTION:
URL:https://www.facet.unt.edu.ar/sbe/event/webinar-321-activa-tu-perfil-profesional/
END:VEVENT
BEGIN:VEVENT
DTSTART;TZID=America/Sao_Paulo:20241022T235900
DTEND;TZID=America/Sao_Paulo:20241022T235900
DTSTAMP:20260422T065550
CREATED:20241009T155626Z
LAST-MODIFIED:20241009T155626Z
UID:3723-1729641540-1729641540@www.facet.unt.edu.ar
SUMMARY:Búsqueda de Pasante de Logística – GRUPO CARGO
DESCRIPTION:Estudiante avanzado en Terciario/Universitario en logística. \nCierre de convocatoria: 22/10
URL:https://www.facet.unt.edu.ar/sbe/event/busqueda-de-pasante-de-logistica-grupo-cargo/
END:VEVENT
END:VCALENDAR